BEGIN:VCALENDAR
VERSION:2.0
PRODID:-//NAAAP Chicago//Silkstart Technology Inc.//
BEGIN:VTIMEZONE
TZID:America/Chicago
BEGIN:DAYLIGHT
DTSTART;VALUE=DATE-TIME:20260308T020000
TZNAME:CDT
TZOFFSETFROM:-0600
TZOFFSETTO:-0500
END:DAYLIGHT
BEGIN:STANDARD
DTSTART;VALUE=DATE-TIME:20261101T020000
TZNAME:CST
TZOFFSETFROM:-0500
TZOFFSETTO:-0600
END:STANDARD
END:VTIMEZONE
BEGIN:VEVENT
SUMMARY:Post-Workday Hangout & Fundraiser at Lou Malnati's
DTSTART;TZID=America/Chicago;VALUE=DATE-TIME:20260519T180000
DTEND;TZID=America/Chicago;VALUE=DATE-TIME:20260519T193000
DTSTAMP;VALUE=DATE-TIME:20260409T001126
UID:69d6eeae57912605e68e6f42
DESCRIPTION: Get to know other Chicago AAPI professionals over a slice of 
 pizza and support NAAAP's Wellness program! 🍕 Date: Tuesday\, May 19 
 🍝 Time: 6 PM 🥗 Location: Lou Malnati's South Loop 
 https://maps.app.goo.gl/CfLxHLn4hpQgW91f7 🥤 Cost: Free to attend 
 (guests pay for their own food and drinks) The delicious and generous Lou 
 Malnati's Pizzeria is donating back 20% of Dine-In\, Takeout &amp\; 
 Delivery orders placed between 11 AM - 11 PM on Tuesday\, May 19 to 
 support NAAAP's Wellness programming! We will have a table available from 
 6&ndash\;7:30 PM for those who would like to participate in-person and 
 make new connections. CAN'T MAKE IT? Here are ways you can show your 
 support on your own: Phone Call Call (312) 786-1000 and mention that you 
 are with the National Association of Asian American Professionals before 
 placing your order. This does not include 3rd-party delivery apps. 
 Restaurant Website Visit Lou Malnati's Pizzeria's online order website. 
 Use the promo code of "GPFUND26" and 20% of your meal&rsquo\;s price will 
 be donated back to National Association of Asian American Professionals. 
 This does not include 3rd-party delivery apps. ABOUT WELLNESS NAAAP's 
 Wellness program is dedicated to sharing ways to build healthy habits to 
 help everyone feel and be their best by providing education and resources 
 surrounding various domains of wellness\, which can include: mental\, 
 physical\, financial\, and social wellness. The Wellness committeee 
 organizes events that are accessible for all income levels\, and are often
  hosted by Asian professionals\, mental health specialists\, and artists. 
 This year&rsquo\;s topics include nutritional wellness\, community service
  opportunities\, and physical health opportunities such as Pilates and 
 biking. Chicago also created a Wellness Therapy Initiative to combat the 
 stigma and under-utilization of mental health services. Asian Americans 
 are the least likely to utilize mental health services compared to other 
 race and ethnic groups. This initiative connects Asian American 
 individuals struggling with mental health to a supportive network of 
 therapists who can help navigate the complexities of their cultural 
 identities. *RSVPs aren&rsquo\;t required\, but letting us know 
 you&rsquo\;re coming helps us secure enough space for everyone. We hope to
  see you there! Event Questions? Reach out to the event host 
 stephanie_li@naaapchicago.org For other questions about the Wellness 
 program\, please email wellness@naaapchicago.org 
LOCATION:805 S State St\, Chicago\, IL 60605\, USA
PRIORITY:5
URL:https://naaap-chicago.silkstart.com:443/events/post-workday-hangout-
 fundraiser-at-lou-malnatis
END:VEVENT
END:VCALENDAR
